BEGIN:VCALENDAR
VERSION:2.0
PRODID:-//RGB Trucking - ECPv6.15.20//NONSGML v1.0//EN
CALSCALE:GREGORIAN
METHOD:PUBLISH
X-ORIGINAL-URL:https://rgbtrucking.com
X-WR-CALDESC:Events for RGB Trucking
REFRESH-INTERVAL;VALUE=DURATION:PT1H
X-Robots-Tag:noindex
X-PUBLISHED-TTL:PT1H
BEGIN:VTIMEZONE
TZID:America/Toronto
BEGIN:DAYLIGHT
TZOFFSETFROM:-0500
TZOFFSETTO:-0400
TZNAME:EDT
DTSTART:20230312T070000
END:DAYLIGHT
BEGIN:STANDARD
TZOFFSETFROM:-0400
TZOFFSETTO:-0500
TZNAME:EST
DTSTART:20231105T060000
END:STANDARD
BEGIN:DAYLIGHT
TZOFFSETFROM:-0500
TZOFFSETTO:-0400
TZNAME:EDT
DTSTART:20240310T070000
END:DAYLIGHT
BEGIN:STANDARD
TZOFFSETFROM:-0400
TZOFFSETTO:-0500
TZNAME:EST
DTSTART:20241103T060000
END:STANDARD
BEGIN:DAYLIGHT
TZOFFSETFROM:-0500
TZOFFSETTO:-0400
TZNAME:EDT
DTSTART:20250309T070000
END:DAYLIGHT
BEGIN:STANDARD
TZOFFSETFROM:-0400
TZOFFSETTO:-0500
TZNAME:EST
DTSTART:20251102T060000
END:STANDARD
BEGIN:DAYLIGHT
TZOFFSETFROM:-0500
TZOFFSETTO:-0400
TZNAME:EDT
DTSTART:20260308T070000
END:DAYLIGHT
BEGIN:STANDARD
TZOFFSETFROM:-0400
TZOFFSETTO:-0500
TZNAME:EST
DTSTART:20261101T060000
END:STANDARD
BEGIN:DAYLIGHT
TZOFFSETFROM:-0500
TZOFFSETTO:-0400
TZNAME:EDT
DTSTART:20270314T070000
END:DAYLIGHT
BEGIN:STANDARD
TZOFFSETFROM:-0400
TZOFFSETTO:-0500
TZNAME:EST
DTSTART:20271107T060000
END:STANDARD
END:VTIMEZONE
BEGIN:VEVENT
DTSTART;VALUE=DATE:20260117
DTEND;VALUE=DATE:20260118
DTSTAMP:20260421T085703
CREATED:20250909T202336Z
LAST-MODIFIED:20251024T163626Z
UID:1069-1768608000-1768694399@rgbtrucking.com
SUMMARY:NHL: Winnipeg Jets vs Toronto Maple Leafs
DESCRIPTION:Join us to see the Winnipeg Jets take on the Toronto Maple Leafs! \nPrice includes transportation & game ticket \n\nDate: January 17\, 2026\nLocation: Canada Life Centre\, Winnipeg\, MB\nSections 120 & 203\n\n  \n\nDeparting from:\n\nFort Frances Memorial Sports Centre: 11:00 am\nDevlins Corner Store: 11:20 am\nEmo Arena: 11:30 am\nNestor Falls: 12:15 pm\nKenora (Airport Rd): 1:30 pm\n\n\n\n\nPuck drop: 6:00 pm\, doors open at 5:00 pm\nStopping at Deacon’s Corner on the way there & back (30-45 min stop)\nReturn time: directly after the game\, arriving in Fort Frances around 3:00 am\n\n**Please contact us at 807-274-5000 or at charter@rgbtruckingff.com if you are travelling with another customer so that we can seat you together. \n**All game tickets are digital and must be accessed (through Ticket Master) on a mobile device in order to enter the event. Tickets will be transferred to each customer prior to game day. Please contact us if you require assistance accessing your tickets. \nBuy Tickets: SOLD OUT
URL:https://rgbtrucking.com/event-calendar/nhl-winnipeg-jets-vs-toronto-maple-leafs-2/
LOCATION:Winnipeg\, MB
CATEGORIES:NHL
ATTACH;FMTTYPE=image/jpeg:https://rgbtrucking.com/wp-content/uploads/2024/09/1718JETS029_BMTSP-VS-Graphics_525x525_TOR.jpg
ORGANIZER;CN="RGB Trucking":MAILTO:charter@rgbtruckingff.com
END:VEVENT
BEGIN:VEVENT
DTSTART;VALUE=DATE:20251229
DTEND;VALUE=DATE:20251230
DTSTAMP:20260421T085703
CREATED:20250909T202907Z
LAST-MODIFIED:20251215T225726Z
UID:1071-1766966400-1767052799@rgbtrucking.com
SUMMARY:NHL: Winnipeg Jets vs Edmonton Oilers
DESCRIPTION:Join us to see the Winnipeg Jets take on the Edmonton Oilers! \nPrice includes transportation & game ticket \n\nDate: December 29\, 2025\nLocation: Canada Life Centre\, Winnipeg\, MB\nSection 120\n\n  \n\nDeparting from:\n\nFort Frances Memorial Sports Centre: 11:30 am\nDevlins Corner Store: 11:50 am\nEmo Arena: 12:00 pm\nNestor Falls: 12:45 pm\nKenora (Airport Rd): 2:00 pm\n\n\n\n\nPuck drop: 6:30 pm\, doors open at 5:30 pm\nStopping at Deacon’s Corner on the way there & back (30-45 min stop)\nReturn time: directly after the game\, arriving in Fort Frances around 3:00 am\n\n**Please contact us at 807-274-5000 or at charter@rgbtruckingff.com if you are travelling with another customer so that we can seat you together. \n**All game tickets are digital and must be accessed (through Ticket Master) on a mobile device in order to enter the event. Tickets will be transferred to each customer prior to game day. Please contact us if you require assistance accessing your tickets. \nBuy Tickets: SOLD OUT
URL:https://rgbtrucking.com/event-calendar/nhl-winnipeg-jets-vs-edmonton-oilers/
LOCATION:Winnipeg\, MB
CATEGORIES:NHL
ATTACH;FMTTYPE=image/png:https://rgbtrucking.com/wp-content/uploads/2025/09/OILERS.png
ORGANIZER;CN="RGB Trucking":MAILTO:charter@rgbtruckingff.com
END:VEVENT
BEGIN:VEVENT
DTSTART;VALUE=DATE:20251109
DTEND;VALUE=DATE:20251110
DTSTAMP:20260421T085703
CREATED:20250909T203705Z
LAST-MODIFIED:20260121T152309Z
UID:1077-1762646400-1762732799@rgbtrucking.com
SUMMARY:NFL: Minnesota Vikings vs Baltimore Ravens
DESCRIPTION:Join us to see the Minnesota Vikings take on the Baltimore Ravens! \nPrice includes transportation & game ticket \n\nDate: November 9\, 2024\nLocation: U.S. Bank Stadium\, Minneapolis MN\nSection 300s\n\n  \n\nDeparting from: Fort Frances Memorial Sports Centre\nDeparture time: 4:30 am\nGame time: 12:00 pm\nStopping at McDonalds in Cloquet on the way there & back (30 min stop)\nReturn time: directly after the game\, arriving in Fort Frances around 10:00 pm\n\nBuy Tickets: SOLD OUT
URL:https://rgbtrucking.com/event-calendar/nfl-minnesota-vikings-vs-baltimore-ravens/
LOCATION:US Bank Stadium\, 401 Chicago Ave\, Minneapolis\, 55415\, United States
CATEGORIES:NFL,Sports
ATTACH;FMTTYPE=image/png:https://rgbtrucking.com/wp-content/uploads/2025/09/ravens.png
ORGANIZER;CN="RGB Trucking":MAILTO:charter@rgbtruckingff.com
END:VEVENT
BEGIN:VEVENT
DTSTART;VALUE=DATE:20251101
DTEND;VALUE=DATE:20251102
DTSTAMP:20260421T085703
CREATED:20250909T203304Z
LAST-MODIFIED:20260121T152345Z
UID:1073-1761955200-1762041599@rgbtrucking.com
SUMMARY:NHL: Winnipeg Jets vs Pittsbugh Penguins
DESCRIPTION:Join us to see the Winnipeg Jets take on the Pittsburgh Penguins! \nPrice includes transportation & game ticket \n\nDate: November 1\, 2025\nLocation: Canada Life Centre\, Winnipeg\, MB\nSection 120\n\n  \n\nDeparting from:\n\nFort Frances Memorial Sports Centre: 7:00 am\nDevlins Corner Store: 7:20 am\nEmo Arena: 7:30 am\nNestor Falls: 8:15 am\nKenora (Airport Rd): 9:30 am\n\n\n\n\nPuck drop: 2:00 pm\, doors open at 1:00 pm\nStopping at Deacon’s Corner on the way there & back (30-45 min stop)\nReturn time: directly after the game\, arriving in Fort Frances around 10:30 pm\n\n**Please contact us at 807-274-5000 or at charter@rgbtruckingff.com if you are travelling with another customer so that we can seat you together. \n**All game tickets are digital and must be accessed (through Ticket Master) on a mobile device in order to enter the event. Tickets will be transferred to each customer prior to game day. Please contact us if you require assistance accessing your tickets. \nBuy Tickets: SOLD OUT
URL:https://rgbtrucking.com/event-calendar/nhl-winnipeg-jets-vs-pittsbugh-penguins/
LOCATION:Winnipeg\, MB
CATEGORIES:NHL
ATTACH;FMTTYPE=image/jpeg:https://rgbtrucking.com/wp-content/uploads/2025/09/PENGUINS.jpg
ORGANIZER;CN="RGB Trucking":MAILTO:charter@rgbtruckingff.com
END:VEVENT
BEGIN:VEVENT
DTSTART;VALUE=DATE:20250111
DTEND;VALUE=DATE:20250112
DTSTAMP:20260421T085703
CREATED:20240917T213324Z
LAST-MODIFIED:20250117T163114Z
UID:1027-1736553600-1736639999@rgbtrucking.com
SUMMARY:NHL: Winnipeg Jets vs Colorado Avalanche
DESCRIPTION:Join us to see the Winnipeg Jets take on the Colorado Avalanche! \nPrice includes transportation & game ticket \n\nDate: January 11\, 2025\nLocation: Canada Life Centre\, Winnipeg\, MB\nSection 120\n\n  \n\nDeparting from:\n\nFort Frances Memorial Sports Centre: 11:00 am\nDevlins Corner Store: 11:20 am\nEmo Arena: 11:30 am\nNestor Falls: 12:15 pm\nKenora (Airport Rd): 1:30 pm\n\n\n\n\nPuck drop: 6:00 pm\, doors open at 5:00\nStopping at Deacon’s Corner on the way there & back (30-45 min stop)\nReturn time: directly after the game\, arriving in Fort Frances around 3:00 am\n\n**Please contact us at 807-274-5000 or at charter@rgbtruckingff.com if you are travelling with another customer so that we can seat you together. \n**All game tickets are digital and must be accessed (through Ticket Master) on a mobile device in order to enter the event. Tickets will be transferred to each customer prior to game day. Please contact us if you require assistance accessing your tickets.
URL:https://rgbtrucking.com/event-calendar/nhl-winnipeg-jets-vs-colorado-avalanche/
LOCATION:Winnipeg\, MB
CATEGORIES:NHL
ATTACH;FMTTYPE=image/png:https://rgbtrucking.com/wp-content/uploads/2024/09/401458645.png
ORGANIZER;CN="RGB Trucking":MAILTO:charter@rgbtruckingff.com
END:VEVENT
BEGIN:VEVENT
DTSTART;VALUE=DATE:20241214
DTEND;VALUE=DATE:20241215
DTSTAMP:20260421T085703
CREATED:20240917T213424Z
LAST-MODIFIED:20241128T180352Z
UID:1023-1734134400-1734220799@rgbtrucking.com
SUMMARY:NHL: Winnipeg Jets vs Montreal Canadiens
DESCRIPTION:Join us to see the Winnipeg Jets take on the Montreal Canadiens! \nPrice includes transportation & game ticket \n\nDate: December 14\, 2024\nLocation: Canada Life Centre\, Winnipeg\, MB\nSections 104/120\n\n  \n\nDeparting from:\n\nFort Frances Memorial Sports Centre: 11:00 am\nDevlins Corner Store: 11:20 am\nEmo Arena: 11:30 am\nNestor Falls: 12:15 pm\nKenora (Airport Rd): 1:30 pm\n\n\n\n\nPuck drop: 6:00 pm\, doors open at 5:00\nStopping at Deacon’s Corner on the way there & back (30-45 min stop)\nReturn time: directly after the game\, arriving in Fort Frances around 3:00 am\n\n**Please contact us at 807-274-5000 or at charter@rgbtruckingff.com if you are travelling with another customer so that we can seat you together. \n**All game tickets are digital and must be accessed (through Ticket Master) on a mobile device in order to enter the event. Tickets will be transferred to each customer prior to game day. Please contact us if you require assistance accessing your tickets. \nSOLD OUT
URL:https://rgbtrucking.com/event-calendar/nhl-winnipeg-jets-vs-montreal-canadiens/
LOCATION:Winnipeg\, MB
CATEGORIES:NHL
ATTACH;FMTTYPE=image/png:https://rgbtrucking.com/wp-content/uploads/2024/09/401559356.png
ORGANIZER;CN="RGB Trucking":MAILTO:charter@rgbtruckingff.com
END:VEVENT
BEGIN:VEVENT
DTSTART;VALUE=DATE:20241028
DTEND;VALUE=DATE:20241029
DTSTAMP:20260421T085703
CREATED:20240917T211918Z
LAST-MODIFIED:20241029T220258Z
UID:1018-1730073600-1730159999@rgbtrucking.com
SUMMARY:NHL: Winnipeg Jets vs Toronto Maple Leafs
DESCRIPTION:Join us to see the Winnipeg Jets take on the Toronto Maple Leafs! \nPrice includes transportation & game ticket \n\nDate: October 28\, 2024\nLocation: Canada Life Centre\, Winnipeg\, MB\nSections 304\, 305\, 306\, 307\n\n  \n\nDeparting from:\n\nFort Frances Memorial Sports Centre: 11:30 am\nDevlins Corner Store: 11:50 am\nEmo Arena: 12:00 pm\nNestor Falls: 12:45 pm\nKenora (Airport Rd): 2:00 pm\n\n\n\n\nPuck drop: 6:30 pm\, doors open at 5:30\nStopping at Deacon’s Corner on the way there & back (30-45 min stop)\nReturn time: directly after the game\, arriving in Fort Frances around 3:00 am\n\n**Please contact us at 807-274-5000 or at charter@rgbtruckingff.com if you are travelling with another customer so that we can seat you together. \n**All game tickets are digital and must be accessed (through Ticket Master) on a mobile device in order to enter the event. Tickets will be transferred to each customer prior to game day. Please contact us if you require assistance accessing your tickets.
URL:https://rgbtrucking.com/event-calendar/nhl-winnipeg-jets-vs-toronto-maple-leafs/
LOCATION:Winnipeg\, MB
CATEGORIES:NHL
ATTACH;FMTTYPE=image/jpeg:https://rgbtrucking.com/wp-content/uploads/2024/09/1718JETS029_BMTSP-VS-Graphics_525x525_TOR.jpg
ORGANIZER;CN="RGB Trucking":MAILTO:charter@rgbtruckingff.com
END:VEVENT
BEGIN:VEVENT
DTSTART;VALUE=DATE:20240915
DTEND;VALUE=DATE:20240916
DTSTAMP:20260421T085703
CREATED:20240618T024825Z
LAST-MODIFIED:20240910T233909Z
UID:796-1726358400-1726444799@rgbtrucking.com
SUMMARY:NFL: Minnesota Vikings vs San Francisco 49ers
DESCRIPTION:Join us to see the Minnesota Vikings take on the San Francisco 49ers! \nPrice includes transportation & game ticket \n\nDate: September 15\, 2024\nLocation: U.S. Bank Stadium\, Minneapolis MN\nSection 300s\n\n  \n\nDeparting from: Fort Frances Memorial Sports Centre\nDeparture time: 4:30 am\nGame time: 12:00 pm\nStopping at McDonalds in Cloquet on the way there & back (30 min stop)\nReturn time: directly after the game\, arriving in Fort Frances around 10:00 pm\n\nSOLD OUT
URL:https://rgbtrucking.com/event-calendar/nfl-minnesota-vikings-vs-san-francisco-49ers/
LOCATION:US Bank Stadium\, 401 Chicago Ave\, Minneapolis\, 55415\, United States
CATEGORIES:NFL,Sports
ATTACH;FMTTYPE=image/jpeg:https://rgbtrucking.com/wp-content/uploads/2024/06/hwpvtqu31brt1rw8jpsd.jpeg
ORGANIZER;CN="RGB Trucking":MAILTO:charter@rgbtruckingff.com
END:VEVENT
BEGIN:VEVENT
DTSTART;VALUE=DATE:20240907
DTEND;VALUE=DATE:20240908
DTSTAMP:20260421T085703
CREATED:20240618T032133Z
LAST-MODIFIED:20240718T135700Z
UID:836-1725667200-1725753599@rgbtrucking.com
SUMMARY:CFL: Winnipeg Blue Bombers vs Saskatchewan Roughriders
DESCRIPTION:Sign up now closed.
URL:https://rgbtrucking.com/event-calendar/cfl-winnipeg-blue-bombers-vs-saskatchewan-roughriders/
LOCATION:Princess Auto Stadium\, 15 Chancellor Matheson Rd\, Winnipeg\, MB\, R3T 1Z2\, Canada
CATEGORIES:CFL,Sports
ATTACH;FMTTYPE=image/jpeg:https://rgbtrucking.com/wp-content/uploads/2024/06/ssk-vs-wpg.jpeg
ORGANIZER;CN="RGB Trucking":MAILTO:charter@rgbtruckingff.com
END:VEVENT
BEGIN:VEVENT
DTSTART;TZID=America/Toronto:20240830T000000
DTEND;TZID=America/Toronto:20240901T235900
DTSTAMP:20260421T085703
CREATED:20240611T151337Z
LAST-MODIFIED:20240718T142202Z
UID:482-1724976000-1725235140@rgbtrucking.com
SUMMARY:MLB Series: Minnesota Twins vs. Toronto Blue Jays
DESCRIPTION:Join us to watch the Minnesota Twins take on the Toronto Blue Jays! \n3 Game Series: August 30-September 1\, 2024 \nPrice include transportation & entrance to all 3 games. \nShuttles available during the days to popular locations\, including Mall of America \nHotel rooms blocked off under RGB Trucking \nHampton Inn Downtown St. Paul – $112 USD / night \nPlease call 807-274-5000 or email charter@rgbtruckingff.com to sign up!
URL:https://rgbtrucking.com/event-calendar/mlb-series-minnesota-twins-vs-toronto-blue-jays/
LOCATION:Target Field\, 1 Twins Way\, Minneapolis\, MN\, 55403\, United States
CATEGORIES:MLB,Sports
ATTACH;FMTTYPE=image/jpeg:https://rgbtrucking.com/wp-content/uploads/2024/06/Twins-vs-Blue-Jays-prediction-odds-pick.jpg
ORGANIZER;CN="RGB Trucking":MAILTO:charter@rgbtruckingff.com
END:VEVENT
BEGIN:VEVENT
DTSTART;VALUE=DATE:20240801
DTEND;VALUE=DATE:20240802
DTSTAMP:20260421T085703
CREATED:20240618T031625Z
LAST-MODIFIED:20240718T135345Z
UID:830-1722470400-1722556799@rgbtrucking.com
SUMMARY:CFL: Winnipeg Blue Bombers vs Calgary Stampeders
DESCRIPTION:Sign up now closed. \n 
URL:https://rgbtrucking.com/event-calendar/cfl-winnipeg-blue-bombers-vs-calgary-stampeders/
LOCATION:Princess Auto Stadium\, 15 Chancellor Matheson Rd\, Winnipeg\, MB\, R3T 1Z2\, Canada
CATEGORIES:CFL,Sports
ATTACH;FMTTYPE=image/jpeg:https://rgbtrucking.com/wp-content/uploads/2024/06/cgy-vs-wpg.jpeg
ORGANIZER;CN="RGB Trucking":MAILTO:charter@rgbtruckingff.com
END:VEVENT
BEGIN:VEVENT
DTSTART;VALUE=DATE:20240712
DTEND;VALUE=DATE:20240713
DTSTAMP:20260421T085703
CREATED:20240618T030740Z
LAST-MODIFIED:20240618T040123Z
UID:825-1720742400-1720828799@rgbtrucking.com
SUMMARY:CFL: Winnipeg Blue Bombers vs BC Lions
DESCRIPTION:Join us to see the Winnipeg Blue Bombers take on the BC Lions! \nPrice includes transportation & game ticket + 15% discount at the Bombers Store \n\nDate: July 12\, 2024\nLocation: Princess Auto Stadium\, Winnipeg MB\nSection 123\, Rows 10-14\nGame time: 7:30 pm\n\n  \n\nDeparting from: Fort Frances Memorial Sports Centre\nDeparture time: 12:00 pm\nAdditional pick ups available in Devlin\, Emo\, Nestor Falls & Kenora (Airport Rd)\nStopping at Deacons Corner on the way there & back (30 min stop)\nReturn time: directly after the game\, arriving in Fort Frances around 3:00 am\n\nBook Now: https://square.link/u/RSOgnalu
URL:https://rgbtrucking.com/event-calendar/cfl-winnipeg-blue-bombers-vs-bc-lions/
LOCATION:Princess Auto Stadium\, 15 Chancellor Matheson Rd\, Winnipeg\, MB\, R3T 1Z2\, Canada
CATEGORIES:CFL,Sports
ATTACH;FMTTYPE=image/jpeg:https://rgbtrucking.com/wp-content/uploads/2024/06/bc-vs-wpg.jpeg
ORGANIZER;CN="RGB Trucking":MAILTO:charter@rgbtruckingff.com
END:VEVENT
END:VCALENDAR