BEGIN:VCALENDAR
VERSION:2.0
PRODID:-//RGB Trucking - ECPv6.15.20//NONSGML v1.0//EN
CALSCALE:GREGORIAN
METHOD:PUBLISH
X-WR-CALNAME:RGB Trucking
X-ORIGINAL-URL:https://rgbtrucking.com
X-WR-CALDESC:Events for RGB Trucking
REFRESH-INTERVAL;VALUE=DURATION:PT1H
X-Robots-Tag:noindex
X-PUBLISHED-TTL:PT1H
BEGIN:VTIMEZONE
TZID:America/Toronto
BEGIN:DAYLIGHT
TZOFFSETFROM:-0500
TZOFFSETTO:-0400
TZNAME:EDT
DTSTART:20230312T070000
END:DAYLIGHT
BEGIN:STANDARD
TZOFFSETFROM:-0400
TZOFFSETTO:-0500
TZNAME:EST
DTSTART:20231105T060000
END:STANDARD
BEGIN:DAYLIGHT
TZOFFSETFROM:-0500
TZOFFSETTO:-0400
TZNAME:EDT
DTSTART:20240310T070000
END:DAYLIGHT
BEGIN:STANDARD
TZOFFSETFROM:-0400
TZOFFSETTO:-0500
TZNAME:EST
DTSTART:20241103T060000
END:STANDARD
BEGIN:DAYLIGHT
TZOFFSETFROM:-0500
TZOFFSETTO:-0400
TZNAME:EDT
DTSTART:20250309T070000
END:DAYLIGHT
BEGIN:STANDARD
TZOFFSETFROM:-0400
TZOFFSETTO:-0500
TZNAME:EST
DTSTART:20251102T060000
END:STANDARD
END:VTIMEZONE
BEGIN:VEVENT
DTSTART;TZID=America/Toronto:20240912T100000
DTEND;TZID=America/Toronto:20240912T220000
DTSTAMP:20260421T101140
CREATED:20240618T024822Z
LAST-MODIFIED:20240718T143256Z
UID:799-1726135200-1726178400@rgbtrucking.com
SUMMARY:Casino Shuttle - Black Bear - September 12th
DESCRIPTION:Join us on a trip to Black Bear Casino in Carlton\, MN \n\nDeparture time: 10:00 am\nDeparture location: Fort Frances Memorial Sports Centre\nTravel time: 3 hours (one way)\nReturn time: 10:00 pm\n\nOn Site Amenities: \n\nBlack Bear Golf Course\n\nLocal Attractions: \n\nPinehill Golf Course\n\nNote: Government issued ID required to cross the Canada/US border \nPlease call 807-274-5000 or email charter@rgbtruckingff.com to sign up! \n 
URL:https://rgbtrucking.com/event-calendar/casino-shuttle-black-bear-september-12th/
LOCATION:Black Bear Casino\, 1785 MN-210\, Carlton\, MN\, 55718\, United States
CATEGORIES:Casinos,Day Trips
ATTACH;FMTTYPE=image/webp:https://rgbtrucking.com/wp-content/uploads/2024/06/Black-Bear-Casino.webp
ORGANIZER;CN="RGB Trucking":MAILTO:charter@rgbtruckingff.com
END:VEVENT
BEGIN:VEVENT
DTSTART;TZID=America/Toronto:20240905T100000
DTEND;TZID=America/Toronto:20240905T210000
DTSTAMP:20260421T101140
CREATED:20240619T184912Z
LAST-MODIFIED:20240718T143312Z
UID:977-1725530400-1725570000@rgbtrucking.com
SUMMARY:Casino Shuttle - Warroad - September 5th
DESCRIPTION:Join us on a trip to Seven Clans Casino in Warroad\, MN \n\nDeparture time: 10:00 am\nDeparture location: Fort Frances Memorial Sports Centre\nTravel time: 2 hours (one way)\nReturn time: 9:00 pm\n\nOn Site Amenities: \n\nIndoor Water Park\nLocal Attractions:\nGolf\nTheatre\nBowling Alley\nArcade\n\nNote: Government issued ID required to cross the Canada/US border \nPlease call 807-274-5000 or email charter@rgbtruckingff.com to sign up! \n 
URL:https://rgbtrucking.com/event-calendar/casino-shuttle-warroad-september-5th/
LOCATION:Warroad – Seven Clans Casino\, 34966 605th Ave\, Warroad\, MN\, 56763\, United States
CATEGORIES:Casinos,Day Trips
ATTACH;FMTTYPE=image/jpeg:https://rgbtrucking.com/wp-content/uploads/2024/06/Warroad-Casino.jpg
ORGANIZER;CN="RGB Trucking":MAILTO:charter@rgbtruckingff.com
END:VEVENT
BEGIN:VEVENT
DTSTART;TZID=America/Toronto:20240829T100000
DTEND;TZID=America/Toronto:20240829T210000
DTSTAMP:20260421T101140
CREATED:20240618T022659Z
LAST-MODIFIED:20240718T143328Z
UID:759-1724925600-1724965200@rgbtrucking.com
SUMMARY:Casino Shuttle - Cedar Lakes - August 29th
DESCRIPTION:Join us on a trip to Cedar Lakes Casino in Cass Lake\, MN \n\nDeparture time: 10:00 am\nDeparture location: Fort Frances Memorial Sports Centre\nTravel Time: 2 hours 15 minutes (one way)\nReturn time: 9:00 pm\n\nLocal Attractions: \n\nCass Lake Museum\nPaul Bunyan Animal Land\n\nNote: Government issued ID required to cross the Canada/US border \nPlease call 807-274-5000 or email charter@rgbtruckingff.com to sign up! \n 
URL:https://rgbtrucking.com/event-calendar/casino-shuttle-cedar-lakes-august-29th/
LOCATION:Cedar Lakes Casino\, Upper Cass Frontage Rd NW\, Cass Lake\, MN\, 56633\, United States
CATEGORIES:Casinos,Day Trips
ATTACH;FMTTYPE=image/jpeg:https://rgbtrucking.com/wp-content/uploads/2024/06/Cedar-Lakes-Casino.jpg
ORGANIZER;CN="RGB Trucking":MAILTO:charter@rgbtruckingff.com
END:VEVENT
BEGIN:VEVENT
DTSTART;TZID=America/Toronto:20240822T100000
DTEND;TZID=America/Toronto:20240822T220000
DTSTAMP:20260421T101140
CREATED:20240618T023243Z
LAST-MODIFIED:20240718T143343Z
UID:769-1724320800-1724364000@rgbtrucking.com
SUMMARY:Casino Shuttle - Thief River Falls - August 22nd
DESCRIPTION:Join us on a trip to Seven Clans Casino in Thief River Falls\, MN \n\nDeparture time: 10:00 am\nDeparture location: Fort Frances Memorial Sports Centre\nTravel time: 3 hours (one way)\nReturn time: 10:00 pm\n\nOn Site Amenities: \n\nIndoor Water Park\nSpa\nLocal Attractions:\nTheatre\nGolf\nBowling\nShopping\nDunes\nGardens\nMuseum\n\nNote: Government issued ID required to cross the Canada/US border \nPlease call 807-274-5000 or email charter@rgbtruckingff.com to sign up! \n 
URL:https://rgbtrucking.com/event-calendar/casino-shuttle-thief-river-falls-august-22nd/
LOCATION:Thief River Falls – Seven Clans Casino\, 20595 Center St E\, Thief River Falls\, MN\, 56701\, United States
CATEGORIES:Casinos,Day Trips
ATTACH;FMTTYPE=image/jpeg:https://rgbtrucking.com/wp-content/uploads/2024/06/Fortune-Bay-Casino.jpg
ORGANIZER;CN="RGB Trucking":MAILTO:charter@rgbtruckingff.com
END:VEVENT
BEGIN:VEVENT
DTSTART;TZID=America/Toronto:20240815T100000
DTEND;TZID=America/Toronto:20240815T220000
DTSTAMP:20260421T101140
CREATED:20240618T013704Z
LAST-MODIFIED:20240718T143354Z
UID:673-1723716000-1723759200@rgbtrucking.com
SUMMARY:Casino Shuttle - Black Bear - August 15th
DESCRIPTION:Join us on a trip to Black Bear Casino in Carlton\, MN \n\nDeparture time: 10:00 am\nDeparture location: Fort Frances Memorial Sports Centre\nTravel time: 3 hours (one way)\nReturn time: 10:00 pm\n\nOn Site Amenities: \n\nBlack Bear Golf Course\n\nLocal Attractions: \n\nPinehill Golf Course\n\nNote: Government issued ID required to cross the Canada/US border \nPlease call 807-274-5000 or email charter@rgbtruckingff.com to sign up! \n 
URL:https://rgbtrucking.com/event-calendar/casino-shuttle-black-bear-august-15th/
LOCATION:Black Bear Casino\, 1785 MN-210\, Carlton\, MN\, 55718\, United States
CATEGORIES:Casinos,Day Trips
ATTACH;FMTTYPE=image/webp:https://rgbtrucking.com/wp-content/uploads/2024/06/Black-Bear-Casino.webp
ORGANIZER;CN="RGB Trucking":MAILTO:charter@rgbtruckingff.com
END:VEVENT
BEGIN:VEVENT
DTSTART;TZID=America/Toronto:20240808T100000
DTEND;TZID=America/Toronto:20240808T220000
DTSTAMP:20260421T101140
CREATED:20240618T023150Z
LAST-MODIFIED:20240718T143551Z
UID:766-1723111200-1723154400@rgbtrucking.com
SUMMARY:Casino Shuttle - Northern Lights Casino - August 8th
DESCRIPTION:Join us on a trip to Northern Lights Casino in Walker MN \n\nDeparture time: 10:00 am\nDeparture location: Fort Frances Memorial Sports Centre\nTravel time: 2 hours 45 minutes (one way)\nReturn time: 10:00 pm\n\nLocal Attractions: \n\nFishing\nGolf\n\nNote: Government issued ID required to cross the Canada/US border \nPlease call 807-274-5000 or email charter@rgbtruckingff.com to sign up! \n 
URL:https://rgbtrucking.com/event-calendar/casino-shuttle-northern-lights-casino-august-8th/
LOCATION:Northern Lights Casino\, 6800 Y Frontage Rd NW\, Walker\, MN\, 56484\, United States
CATEGORIES:Casinos,Day Trips
ATTACH;FMTTYPE=image/jpeg:https://rgbtrucking.com/wp-content/uploads/2024/06/Northern-Lights-Casino.jpg
ORGANIZER;CN="RGB Trucking":MAILTO:charter@rgbtruckingff.com
END:VEVENT
BEGIN:VEVENT
DTSTART;TZID=America/Toronto:20240801T100000
DTEND;TZID=America/Toronto:20240801T210000
DTSTAMP:20260421T101140
CREATED:20240618T024322Z
LAST-MODIFIED:20240718T140639Z
UID:771-1722506400-1722546000@rgbtrucking.com
SUMMARY:Casino Shuttle - Warroad - August 1st
DESCRIPTION:Sign up now closed.
URL:https://rgbtrucking.com/event-calendar/casino-shuttle-warroad-august-1st/
LOCATION:MN
CATEGORIES:Casinos,Day Trips
ATTACH;FMTTYPE=image/jpeg:https://rgbtrucking.com/wp-content/uploads/2024/06/Warroad-Casino.jpg
ORGANIZER;CN="RGB Trucking":MAILTO:charter@rgbtruckingff.com
END:VEVENT
BEGIN:VEVENT
DTSTART;TZID=America/Toronto:20240725T100000
DTEND;TZID=America/Toronto:20240725T210000
DTSTAMP:20260421T101140
CREATED:20240618T022943Z
LAST-MODIFIED:20240718T140619Z
UID:762-1721901600-1721941200@rgbtrucking.com
SUMMARY:Casino Shuttle - Fortune Bay - July 25th
DESCRIPTION:Sign up now closed.
URL:https://rgbtrucking.com/event-calendar/casino-shuttle-fortune-bay-july-25th/
LOCATION:Fortune Bay Casino\, 1430 Bois Forta Rd\, Tower\, MN\, 55790\, United States
CATEGORIES:Casinos,Day Trips
ATTACH;FMTTYPE=image/jpeg:https://rgbtrucking.com/wp-content/uploads/2024/06/Fortune-Bay-Casino.jpg
ORGANIZER;CN="RGB Trucking":MAILTO:charter@rgbtruckingff.com
END:VEVENT
BEGIN:VEVENT
DTSTART;TZID=America/Toronto:20240718T100000
DTEND;TZID=America/Toronto:20240718T220000
DTSTAMP:20260421T101140
CREATED:20240618T024646Z
LAST-MODIFIED:20240718T140702Z
UID:757-1721296800-1721340000@rgbtrucking.com
SUMMARY:Casino Shuttle - Black Bear - July 18th
DESCRIPTION:Sign up now closed.
URL:https://rgbtrucking.com/event-calendar/casino-shuttle-black-bear-july-15th/
LOCATION:Black Bear Casino\, 1785 MN-210\, Carlton\, MN\, 55718\, United States
CATEGORIES:Casinos,Day Trips
ATTACH;FMTTYPE=image/webp:https://rgbtrucking.com/wp-content/uploads/2024/06/Black-Bear-Casino.webp
ORGANIZER;CN="RGB Trucking":MAILTO:charter@rgbtruckingff.com
END:VEVENT
BEGIN:VEVENT
DTSTART;TZID=America/Toronto:20240711T100000
DTEND;TZID=America/Toronto:20240711T220000
DTSTAMP:20260421T101140
CREATED:20240618T025653Z
LAST-MODIFIED:20240718T143445Z
UID:809-1720692000-1720735200@rgbtrucking.com
SUMMARY:Casino Shuttle - Thief River Falls - July 11th
DESCRIPTION:Join us on a trip to Seven Clans Casino in Thief River Falls\, MN \n\nDeparture time: 10:00 am\nDeparture location: Fort Frances Memorial Sports Centre\nTravel time: 3 hours (one way)\nReturn time: 10:00 pm\n\nOn Site Amenities: \n\nIndoor Water Park\nSpa\nLocal Attractions:\nTheatre\nGolf\nBowling\nShopping\nDunes\nGardens\nMuseum\n\nNote: Government issued ID required to cross the Canada/US border \nPlease call 807-274-5000 or email charter@rgbtruckingff.com to sign up! \n  \n 
URL:https://rgbtrucking.com/event-calendar/casino-shuttle-thief-river-falls-july-11th/
LOCATION:Thief River Falls – Seven Clans Casino\, 20595 Center St E\, Thief River Falls\, MN\, 56701\, United States
CATEGORIES:Casinos,Day Trips
ATTACH;FMTTYPE=image/jpeg:https://rgbtrucking.com/wp-content/uploads/2024/06/Thief-River-Falls-Casino.jpg
ORGANIZER;CN="RGB Trucking":MAILTO:charter@rgbtruckingff.com
END:VEVENT
BEGIN:VEVENT
DTSTART;TZID=America/Toronto:20240704T100000
DTEND;TZID=America/Toronto:20240704T210000
DTSTAMP:20260421T101140
CREATED:20240619T164937Z
LAST-MODIFIED:20240619T185846Z
UID:975-1720087200-1720126800@rgbtrucking.com
SUMMARY:Casino Shuttle - Fortune Bay - July 4th
DESCRIPTION:Join us on a trip to Fortune Bay Casino in Tower\, MN \n\nDeparture time: 10:00 am\nDeparture location: Fort Frances Memorial Sports Centre\nTravel time: 1 hour 45 minutes (one way)\nReturn time: 9:00 pm\n\nOn Site Amenities: \n\nFishing\nGolf\nIndoor Pool\nArcade\n\nLocal Attractions: \n\nHeritage Museum\nSoudan Mines\nNorth American Bear Center\nInternational Wolf Center\n\nNote: Government issued ID required to cross the Canada/US border \nBook Now: https://square.link/u/xXA3VatC
URL:https://rgbtrucking.com/event-calendar/casino-shuttle-fortune-bay-july-4th/
LOCATION:Fortune Bay Casino\, 1430 Bois Forta Rd\, Tower\, MN\, 55790\, United States
CATEGORIES:Casinos,Day Trips
ATTACH;FMTTYPE=image/jpeg:https://rgbtrucking.com/wp-content/uploads/2024/06/Fortune-Bay-Casino.jpg
ORGANIZER;CN="RGB Trucking":MAILTO:charter@rgbtruckingff.com
END:VEVENT
BEGIN:VEVENT
DTSTART;TZID=America/Toronto:20240627T100000
DTEND;TZID=America/Toronto:20240627T210000
DTSTAMP:20260421T101140
CREATED:20240618T025752Z
LAST-MODIFIED:20240702T143316Z
UID:812-1719482400-1719522000@rgbtrucking.com
SUMMARY:Casino Shuttle - Warroad - June 27th
DESCRIPTION:TRIP CANCELLED DUE TO FLOODING \nJoin us on a trip to Seven Clans Casino in Warroad\, MN \n\nDeparture time: 10:00 am\nDeparture location: Fort Frances Memorial Sports Centre\nTravel time: 2 hours (one way)\nReturn time: 9:00 pm\n\nOn Site Amenities: \n\nIndoor Water Park\nLocal Attractions:\nGolf\nTheatre\nBowling Alley\nArcade\n\nNote: Government issued ID required to cross the Canada/US border
URL:https://rgbtrucking.com/event-calendar/casino-shuttle-warroad-june-27th/
LOCATION:MN
CATEGORIES:Casinos,Day Trips
ATTACH;FMTTYPE=image/jpeg:https://rgbtrucking.com/wp-content/uploads/2024/06/Warroad-Casino.jpg
ORGANIZER;CN="RGB Trucking":MAILTO:charter@rgbtruckingff.com
END:VEVENT
END:VCALENDAR